BEGIN:VCALENDAR
VERSION:2.0
PRODID:-//Financial Mind - ECPv5.3.2.1//NONSGML v1.0//EN
CALSCALE:GREGORIAN
METHOD:PUBLISH
X-WR-CALNAME:Financial Mind
X-ORIGINAL-URL:https://financial-mind.com
X-WR-CALDESC:Eventos para Financial Mind
BEGIN:VTIMEZONE
TZID:Europe/Madrid
BEGIN:DAYLIGHT
TZOFFSETFROM:+0100
TZOFFSETTO:+0200
TZNAME:CEST
DTSTART:20150329T010000
END:DAYLIGHT
BEGIN:STANDARD
TZOFFSETFROM:+0200
TZOFFSETTO:+0100
TZNAME:CET
DTSTART:20151025T010000
END:STANDARD
END:VTIMEZONE
BEGIN:VEVENT
DTSTART;TZID=Europe/Madrid:20150420T050000
DTEND;TZID=Europe/Madrid:20150420T050000
DTSTAMP:20260421T161543
CREATED:20150420T030000Z
LAST-MODIFIED:20220324T114857Z
UID:3175-1429506000-1429506000@financial-mind.com
SUMMARY:Análisis e impacto de la nueva Ley y Reglamento de  IIC
DESCRIPTION:Curso On-line \n Fecha de inicio 20/04/2015 \nConozca en profundidad y debata con nuestros expertos el contenido\, impacto y criterios que han sido adoptados tras la aprobación de la Ley 22/2014 y el Real Decreto 83/2015 que modifica el Reglamento de Instituciones de Inversión Colectiva. Con este programa de Formación usted puede beneficiarse de las bonificaciones de la Fundación Tripartita para la Formación en el empleo. Las tramitaciones deben realizarse a través de la Fundación Tripartita desde su empresa o empresas colaboradoras.  \nDescargar PDFInscribirse
URL:https://financial-mind.com/event/analisis-e-impacto-de-la-nueva-ley-y-reglamento-de-iic/
CATEGORIES:On-line
ATTACH;FMTTYPE=image/jpeg:https://financial-mind.com/wp-content/uploads/2022/02/20_04_2015.jpg
END:VEVENT
END:VCALENDAR