BEGIN:VCALENDAR
VERSION:2.0
PRODID:-//Financial Mind - ECPv5.3.2.1//NONSGML v1.0//EN
CALSCALE:GREGORIAN
METHOD:PUBLISH
X-WR-CALNAME:Financial Mind
X-ORIGINAL-URL:https://financial-mind.com
X-WR-CALDESC:Eventos para Financial Mind
BEGIN:VTIMEZONE
TZID:Europe/Madrid
BEGIN:DAYLIGHT
TZOFFSETFROM:+0100
TZOFFSETTO:+0200
TZNAME:CEST
DTSTART:20170326T010000
END:DAYLIGHT
BEGIN:STANDARD
TZOFFSETFROM:+0200
TZOFFSETTO:+0100
TZNAME:CET
DTSTART:20171029T010000
END:STANDARD
END:VTIMEZONE
BEGIN:VEVENT
DTSTART;TZID=Europe/Madrid:20170619T050000
DTEND;TZID=Europe/Madrid:20170619T050000
DTSTAMP:20260421T103018
CREATED:20170619T030000Z
LAST-MODIFIED:20220324T122844Z
UID:3191-1497848400-1497848400@financial-mind.com
SUMMARY:El Sector Financiero ante el RGPD: La Economía Digital 2.0
DESCRIPTION:Madrid\, Aula Alternativa – Sesión presencial 20 junio / Videoconferencia en directo \n Fecha de inicio 19/06/2017 \nConozca de la mano de los expertos cómo va a impactar el Reglamento General de Protección de Datos en la actividad de las entidades financieras. Anticípese a las profundas adaptaciones a la nueva normativa para continuar con la actividad en los sistemas de la información\, la organización\, el negocio y los recursos humanos.Inscripciones antes del 15 de junio 2017 \nDescargar PDFInscribirse
URL:https://financial-mind.com/event/el-sector-financiero-ante-el-rgpd-la-economia-digital-2-0/
CATEGORIES:Mixto
ATTACH;FMTTYPE=image/jpeg:https://financial-mind.com/wp-content/uploads/2022/02/20_06_2017.jpg
END:VEVENT
END:VCALENDAR