BEGIN:VCALENDAR
VERSION:2.0
PRODID:-//Financial Mind - ECPv5.3.2.1//NONSGML v1.0//EN
CALSCALE:GREGORIAN
METHOD:PUBLISH
X-WR-CALNAME:Financial Mind
X-ORIGINAL-URL:https://financial-mind.com
X-WR-CALDESC:Eventos para Financial Mind
BEGIN:VTIMEZONE
TZID:Europe/Madrid
BEGIN:DAYLIGHT
TZOFFSETFROM:+0100
TZOFFSETTO:+0200
TZNAME:CEST
DTSTART:20130331T010000
END:DAYLIGHT
BEGIN:STANDARD
TZOFFSETFROM:+0200
TZOFFSETTO:+0100
TZNAME:CET
DTSTART:20131027T010000
END:STANDARD
END:VTIMEZONE
BEGIN:VEVENT
DTSTART;TZID=Europe/Madrid:20130910T050000
DTEND;TZID=Europe/Madrid:20130910T050000
DTSTAMP:20260422T011536
CREATED:20130910T030000Z
LAST-MODIFIED:20220324T110306Z
UID:3167-1378789200-1378789200@financial-mind.com
SUMMARY:Especialista en Fiscalidad de las Operaciones Financieras
DESCRIPTION:Curso On-line \n Fecha de inicio 10/09/2013 \nAdquiera o actualice conocimientos en materia de fiscalidad de las inversiones financieras. Conozca en detalle cómo tributan todas las alternativas existentes para la inversión en productos financieros. Estudie los mecanismos para obtener la tributación más ventajosa en cada caso y poder elegir los productos o las decisiones de inversión y desinversión fiscalmente más recomendables para cada inversor. Con este programa de Formación usted puede beneficiarse de las bonificaciones de la Fundación Tripartita para la Formación en el empleo. Las tramitaciones deben realizarse a través de la Fundación Tripartita desde su empresa o empresas colaboradoras.  \nDescargar PDFInscribirse
URL:https://financial-mind.com/event/especialista-en-fiscalidad-de-las-operaciones-financieras/
CATEGORIES:On-line
ATTACH;FMTTYPE=image/jpeg:https://financial-mind.com/wp-content/uploads/2022/02/10_09_2013.jpg
END:VEVENT
END:VCALENDAR