BEGIN:VCALENDAR
VERSION:2.0
PRODID:-//Financial Mind - ECPv5.3.2.1//NONSGML v1.0//EN
CALSCALE:GREGORIAN
METHOD:PUBLISH
X-WR-CALNAME:Financial Mind
X-ORIGINAL-URL:https://financial-mind.com
X-WR-CALDESC:Eventos para Financial Mind
BEGIN:VTIMEZONE
TZID:Europe/Madrid
BEGIN:DAYLIGHT
TZOFFSETFROM:+0100
TZOFFSETTO:+0200
TZNAME:CEST
DTSTART:20160327T010000
END:DAYLIGHT
BEGIN:STANDARD
TZOFFSETFROM:+0200
TZOFFSETTO:+0100
TZNAME:CET
DTSTART:20161030T010000
END:STANDARD
END:VTIMEZONE
BEGIN:VEVENT
DTSTART;TZID=Europe/Madrid:20160229T050000
DTEND;TZID=Europe/Madrid:20160229T050000
DTSTAMP:20260421T155838
CREATED:20160229T040000Z
LAST-MODIFIED:20220324T115115Z
UID:3174-1456722000-1456722000@financial-mind.com
SUMMARY:Especialista en Instituciones de Inversión Colectiva - 7ª Edición
DESCRIPTION:Curso On-line >> Funds Expert Certificate \n Fecha de inicio 29/02/2016 \nNo pierda la oportunidad de convertirse en un experto de la industria de la Inversión Colectiva en España y Europa. Acredite con el -Funds Expert Certificate- que cuenta con unos conocimientos profundos y muy avanzados en las actividades que se realizan en el día a día de los Fondos y Sociedades de Inversión así como de todo su marco regulatorio vigente en España como en Europa. Con este programa de Formación usted puede beneficiarse de las bonificaciones de la Fundación Tripartita para la Formación en el empleo. Las tramitaciones deben realizarse a través de la Fundación Tripartita desde su empresa o empresas colaboradoras. \nDescargar PDFInscribirse
URL:https://financial-mind.com/event/especialista-en-instituciones-de-inversion-colectiva-8/
CATEGORIES:On-line
ATTACH;FMTTYPE=image/jpeg:https://financial-mind.com/wp-content/uploads/2022/02/29_02_2016.jpg
END:VEVENT
END:VCALENDAR