BEGIN:VCALENDAR
VERSION:2.0
PRODID:-//Financial Mind - ECPv5.3.2.1//NONSGML v1.0//EN
CALSCALE:GREGORIAN
METHOD:PUBLISH
X-WR-CALNAME:Financial Mind
X-ORIGINAL-URL:https://financial-mind.com
X-WR-CALDESC:Eventos para Financial Mind
BEGIN:VTIMEZONE
TZID:Europe/Madrid
BEGIN:DAYLIGHT
TZOFFSETFROM:+0100
TZOFFSETTO:+0200
TZNAME:CEST
DTSTART:20170326T010000
END:DAYLIGHT
BEGIN:STANDARD
TZOFFSETFROM:+0200
TZOFFSETTO:+0100
TZNAME:CET
DTSTART:20171029T010000
END:STANDARD
END:VTIMEZONE
BEGIN:VEVENT
DTSTART;TZID=Europe/Madrid:20170227T050000
DTEND;TZID=Europe/Madrid:20170227T050000
DTSTAMP:20260421T114958
CREATED:20170227T040000Z
LAST-MODIFIED:20220324T121827Z
UID:3187-1488171600-1488171600@financial-mind.com
SUMMARY:Especialista en Instituciones de Inversión Colectiva - 8ª Edición
DESCRIPTION:Curso On-line >> Funds Expert Certificate \n Fecha de inicio 27/02/2017 \nNo pierda la oportunidad de convertirse en un experto de la industria de la Inversión Colectiva en España y Europa. Conozca en profundidad y analice con nuestros expertos las últimas novedades regulatorias en el ámbito de las Instituciones de Inversión Colectiva\, pudiendo acreditar un adecuado cumplimiento de los requisitos de formación exigidos por las autoridades supervisoras \nDescargar PDFInscribirse
URL:https://financial-mind.com/event/especialista-en-instituciones-de-inversion-colectiva-9/
CATEGORIES:On-line
ATTACH;FMTTYPE=image/jpeg:https://financial-mind.com/wp-content/uploads/2022/02/27_02_2017.jpg
END:VEVENT
END:VCALENDAR