BEGIN:VCALENDAR
VERSION:2.0
PRODID:-//Financial Mind - ECPv5.3.2.1//NONSGML v1.0//EN
CALSCALE:GREGORIAN
METHOD:PUBLISH
X-WR-CALNAME:Financial Mind
X-ORIGINAL-URL:https://financial-mind.com
X-WR-CALDESC:Eventos para Financial Mind
BEGIN:VTIMEZONE
TZID:Europe/Madrid
BEGIN:DAYLIGHT
TZOFFSETFROM:+0100
TZOFFSETTO:+0200
TZNAME:CEST
DTSTART:20160327T010000
END:DAYLIGHT
BEGIN:STANDARD
TZOFFSETFROM:+0200
TZOFFSETTO:+0100
TZNAME:CET
DTSTART:20161030T010000
END:STANDARD
END:VTIMEZONE
BEGIN:VEVENT
DTSTART;TZID=Europe/Madrid:20160328T050000
DTEND;TZID=Europe/Madrid:20160328T050000
DTSTAMP:20260421T132000
CREATED:20160328T030000Z
LAST-MODIFIED:20220324T115720Z
UID:3173-1459141200-1459141200@financial-mind.com
SUMMARY:Especialista en Planes y Fondos de pensiones - 2ª Edición
DESCRIPTION:Curso On-line >> Pensions Expert Certificate \n Fecha de inicio 28/03/2016 \nNo pierda la oportunidad de convertirse en un experto de sistemas de previsión social. Acredite que cuenta con unos conocimientos profundos y muy avanzados en las actividades que se realizan en el día a día de los Planes de Pensiones y otros sistemas de previsión\, así como en todo su marco regulatorio vigente. Adquiera una visión integralde las actividades que se realizan en el día a día de los fondos de pensiones en nuestro país y en el ámbito internacional\, analizando los efectos que la aplicaciónde la normativa de SOLVENCIA II puede tener sobre los planes de pensiones.Con este programa de Formación usted puede beneficiarse de las bonificaciones de la Fundación Tripartita para la Formación en el empleo. Las tramitaciones deben realizarse a través de la Fundación Tripartita desde su empresa o empresas colaboradoras.  \nDescargar PDFInscribirse
URL:https://financial-mind.com/event/especialista-en-planes-y-fondos-de-pensiones-3/
CATEGORIES:On-line
ATTACH;FMTTYPE=image/jpeg:https://financial-mind.com/wp-content/uploads/2022/02/28_03_2016.jpg
END:VEVENT
END:VCALENDAR