BEGIN:VCALENDAR
VERSION:2.0
PRODID:-//Financial Mind - ECPv5.3.2.1//NONSGML v1.0//EN
CALSCALE:GREGORIAN
METHOD:PUBLISH
X-WR-CALNAME:Financial Mind
X-ORIGINAL-URL:https://financial-mind.com
X-WR-CALDESC:Eventos para Financial Mind
BEGIN:VTIMEZONE
TZID:Europe/Madrid
BEGIN:DAYLIGHT
TZOFFSETFROM:+0100
TZOFFSETTO:+0200
TZNAME:CEST
DTSTART:20170326T010000
END:DAYLIGHT
BEGIN:STANDARD
TZOFFSETFROM:+0200
TZOFFSETTO:+0100
TZNAME:CET
DTSTART:20171029T010000
END:STANDARD
END:VTIMEZONE
BEGIN:VEVENT
DTSTART;TZID=Europe/Madrid:20171002T050000
DTEND;TZID=Europe/Madrid:20171002T050000
DTSTAMP:20260421T114155
CREATED:20171002T030000Z
LAST-MODIFIED:20220324T123902Z
UID:3192-1506920400-1506920400@financial-mind.com
SUMMARY:Especialista en Planes y Fondos de Pensiones - 3ª Edición
DESCRIPTION:Curso On-line >> Pensions Expert Certificate \n Fecha de inicio 02/10/2017 \nNo pierda la oportunidad de convertirse en un experto de sistemas de previsión social. Acredite que cuenta con unos conocimientos profundos en las actividades que se realizan en el día a día de los Planes de Pensiones y otros sistemas deprevisión\, así como en todo su marco regulatorio vigente. Adquiera una visión integral de las actividades que se realizan en el día a día de los fondos de pensiones en nuestro país y en el ámbito internacional\, analizando los efectos quela aplicación de la normativa de SOLVENCIA II puede tener sobre los planes de pensiones. \nDescargar PDFInscribirse
URL:https://financial-mind.com/event/especialista-en-planes-y-fondos-de-pensiones-4/
CATEGORIES:On-line
ATTACH;FMTTYPE=image/jpeg:https://financial-mind.com/wp-content/uploads/2022/02/02_10_2017.jpg
END:VEVENT
END:VCALENDAR