BEGIN:VCALENDAR
VERSION:2.0
PRODID:-//Financial Mind - ECPv5.3.2.1//NONSGML v1.0//EN
CALSCALE:GREGORIAN
METHOD:PUBLISH
X-WR-CALNAME:Financial Mind
X-ORIGINAL-URL:https://financial-mind.com
X-WR-CALDESC:Eventos para Financial Mind
BEGIN:VTIMEZONE
TZID:Europe/Madrid
BEGIN:DAYLIGHT
TZOFFSETFROM:+0100
TZOFFSETTO:+0200
TZNAME:CEST
DTSTART:20200329T010000
END:DAYLIGHT
BEGIN:STANDARD
TZOFFSETFROM:+0200
TZOFFSETTO:+0100
TZNAME:CET
DTSTART:20201025T010000
END:STANDARD
END:VTIMEZONE
BEGIN:VEVENT
DTSTART;TZID=Europe/Madrid:20200127T050000
DTEND;TZID=Europe/Madrid:20200127T050000
DTSTAMP:20260421T090606
CREATED:20200127T040000Z
LAST-MODIFIED:20220325T103311Z
UID:3208-1580101200-1580101200@financial-mind.com
SUMMARY:Especialista en Planes y Fondos de Pensiones - 5ª Edición
DESCRIPTION:Curso On-line >> Pensions Expert Certificate \n Fecha de inicio 27/01/2020 \nNo pierda la oportunidad de convertirse en un experto de sistemas de previsión Social y de contar con conocimientos actualizados dadas las últimas novedades en la normativa de planes y fondos de pensiones tales como los nuevos modelos de Información cuantitativa a efectos de supervisión\, estadísticos y contables\, a remitir por las entidades Gestoras de Fondos de Pensiones. \nDescargar PDFInscribirse
URL:https://financial-mind.com/event/especialista-en-planes-y-fondos-de-pensiones/
CATEGORIES:Mixto
ATTACH;FMTTYPE=image/jpeg:https://financial-mind.com/wp-content/uploads/2022/02/27_01_2020.jpg
END:VEVENT
END:VCALENDAR