BEGIN:VCALENDAR
VERSION:2.0
PRODID:-//Financial Mind - ECPv5.3.2.1//NONSGML v1.0//EN
CALSCALE:GREGORIAN
METHOD:PUBLISH
X-WR-CALNAME:Financial Mind
X-ORIGINAL-URL:https://financial-mind.com
X-WR-CALDESC:Eventos para Financial Mind
BEGIN:VTIMEZONE
TZID:Europe/Madrid
BEGIN:DAYLIGHT
TZOFFSETFROM:+0100
TZOFFSETTO:+0200
TZNAME:CEST
DTSTART:20180325T010000
END:DAYLIGHT
BEGIN:STANDARD
TZOFFSETFROM:+0200
TZOFFSETTO:+0100
TZNAME:CET
DTSTART:20181028T010000
END:STANDARD
END:VTIMEZONE
BEGIN:VEVENT
DTSTART;TZID=Europe/Madrid:20180212T050000
DTEND;TZID=Europe/Madrid:20180212T050000
DTSTAMP:20260421T103055
CREATED:20180212T040000Z
LAST-MODIFIED:20220325T095121Z
UID:3197-1518411600-1518411600@financial-mind.com
SUMMARY:MiFID II Situación actual\, últimas novedades y retos
DESCRIPTION:Madrid\, Aula Alternativa – Sesión presencial 13 febrero / Videoconferencia en directo \n Fecha de inicio 12/02/2018 \nEl pasado 3 de enero entró en vigor MiFID II\, una normativa que tendrá un impacto muy relevante en el negocio de las entidades financieras y en el funcionamiento y transparencia de los mercados. Desde finales de 2017\, se han producido novedades muy relevantes\, entre las que destacaría el Decreto Ley aprobado por el gobierno el pasado 29 de diciembre de medidas urgentes para la adaptación parcial de la Directiva\, así como diversos comunicados emitidos por la CNMV\, en los que se traslada al sector las pautas\, criterios y requisitos que deben cumplir para la correcta implementación de MiFID II\, junto con otras novedades y desarrollos normativos recientemente aprobados a nivel europeo por la ESMA. \nDescargar PDFInscribirse
URL:https://financial-mind.com/event/mifid-ii-situacion-actual-ultimas-novedades-y-retos/
CATEGORIES:Mixto
ATTACH;FMTTYPE=image/jpeg:https://financial-mind.com/wp-content/uploads/2022/02/12_02_2018.jpg
END:VEVENT
END:VCALENDAR