BEGIN:VCALENDAR
VERSION:2.0
PRODID:-//Financial Mind - ECPv5.3.2.1//NONSGML v1.0//EN
CALSCALE:GREGORIAN
METHOD:PUBLISH
X-WR-CALNAME:Financial Mind
X-ORIGINAL-URL:https://financial-mind.com
X-WR-CALDESC:Eventos para Financial Mind
BEGIN:VTIMEZONE
TZID:Europe/Madrid
BEGIN:DAYLIGHT
TZOFFSETFROM:+0100
TZOFFSETTO:+0200
TZNAME:CEST
DTSTART:20190331T010000
END:DAYLIGHT
BEGIN:STANDARD
TZOFFSETFROM:+0200
TZOFFSETTO:+0100
TZNAME:CET
DTSTART:20191027T010000
END:STANDARD
END:VTIMEZONE
BEGIN:VEVENT
DTSTART;TZID=Europe/Madrid:20191028T050000
DTEND;TZID=Europe/Madrid:20191028T050000
DTSTAMP:20260421T084841
CREATED:20191028T040000Z
LAST-MODIFIED:20220325T102733Z
UID:3207-1572238800-1572238800@financial-mind.com
SUMMARY:Modelos de información cuantitativa a efectos de supervisión
DESCRIPTION:Madrid\, Aula Alternativa – Sesión presencial 29 octubre / Videoconferencia en diferido \n Fecha de inicio 28/10/2019 \nAnalice en profundidad los nuevos modelos de datos para la cumplimentación de las DECS para fondos de pensiones adaptados a los modelos de EIOPA/BCE. Adelántese y no pierda la oportunidad de disponer de conocimientostotalmente actualizados ante los cambios derivados de la inminente nueva documentación estadistico contable de fondos de pensiones. \nDescargar PDFInscribirse
URL:https://financial-mind.com/event/modelos-de-informacion-cuantitativa-a-efectos-de-supervision/
CATEGORIES:Mixto
ATTACH;FMTTYPE=image/jpeg:https://financial-mind.com/wp-content/uploads/2022/02/28_10_2019.jpg
END:VEVENT
END:VCALENDAR