BEGIN:VCALENDAR
VERSION:2.0
PRODID:-//Financial Mind - ECPv5.3.2.1//NONSGML v1.0//EN
CALSCALE:GREGORIAN
METHOD:PUBLISH
X-WR-CALNAME:Financial Mind
X-ORIGINAL-URL:https://financial-mind.com
X-WR-CALDESC:Eventos para Financial Mind
BEGIN:VTIMEZONE
TZID:Europe/Madrid
BEGIN:DAYLIGHT
TZOFFSETFROM:+0100
TZOFFSETTO:+0200
TZNAME:CEST
DTSTART:20130331T010000
END:DAYLIGHT
BEGIN:STANDARD
TZOFFSETFROM:+0200
TZOFFSETTO:+0100
TZNAME:CET
DTSTART:20131027T010000
END:STANDARD
END:VTIMEZONE
BEGIN:VEVENT
DTSTART;TZID=Europe/Madrid:20130617T050000
DTEND;TZID=Europe/Madrid:20130617T050000
DTSTAMP:20260422T022420
CREATED:20130617T030000Z
LAST-MODIFIED:20220324T111155Z
UID:3168-1371445200-1371445200@financial-mind.com
SUMMARY:Módulo de Actualización - Normativa de IIC
DESCRIPTION:Curso On-line \n Fecha de inicio 17/06/2013 \nConozca en profundidad todas las novedades normativas que se están produciendo en la industria de la Inversión Colectiva: Directivas AIFMID y EMIR\, FATCA\, Circulares de la CNMV y otras novedades de especial relevancia. Con este programa de Formación usted puede beneficiarse de las bonificaciones de la Fundación Tripartita para la Formación en el empleo. Las tramitaciones deben realizarse a través de la Fundación Tripartita desde su empresa o empresas colaboradoras.  \nDescargar PDFInscribirse
URL:https://financial-mind.com/event/modulo-de-actualizacion-normativa-de-iic/
CATEGORIES:On-line
ATTACH;FMTTYPE=image/jpeg:https://financial-mind.com/wp-content/uploads/2022/02/17_06_2013.jpg
END:VEVENT
END:VCALENDAR