BEGIN:VCALENDAR
VERSION:2.0
PRODID:-//Financial Mind - ECPv5.3.2.1//NONSGML v1.0//EN
CALSCALE:GREGORIAN
METHOD:PUBLISH
X-WR-CALNAME:Financial Mind
X-ORIGINAL-URL:https://financial-mind.com
X-WR-CALDESC:Eventos para Financial Mind
BEGIN:VTIMEZONE
TZID:Europe/Madrid
BEGIN:DAYLIGHT
TZOFFSETFROM:+0100
TZOFFSETTO:+0200
TZNAME:CEST
DTSTART:20190331T010000
END:DAYLIGHT
BEGIN:STANDARD
TZOFFSETFROM:+0200
TZOFFSETTO:+0100
TZNAME:CET
DTSTART:20191027T010000
END:STANDARD
END:VTIMEZONE
BEGIN:VEVENT
DTSTART;TZID=Europe/Madrid:20190520T050000
DTEND;TZID=Europe/Madrid:20190520T050000
DTSTAMP:20260421T085424
CREATED:20190520T030000Z
LAST-MODIFIED:20220325T103000Z
UID:3206-1558328400-1558328400@financial-mind.com
SUMMARY:Novedades normativas en Gestoras y Depositarios de IIC
DESCRIPTION:Madrid\, Aula Alternativa – Sesión presencial 21 mayo / Videoconferencia en diferido \n Fecha de inicio 20/05/2019 \nA lo largo de 2019 se continúan aprobando importantes novedades regulatorias e implementándose nuevos criterios y prácticas supervisoras por los organismosreguladores\, destacando\, entre otras: MiFID II\, Guías Técnicas de la CNMV sobre Mejor Ejecución\, Operaciones Vinculadas\, Gestión de la liquidez\, Políticas de Inversión\,cuentas ómnibus\, etc.Ante la relevancia de todas estas novedades Financial Mind lanza este módulo de actualización impartido por expertos de la CNMV y con la colaboración de finReg360\, con el fin de proporcionarle los conocimientos y herramientas necesarias para poder afrontar los nuevos requisitos exigidos en el marco de actuación de las IIC\, permitiendo a los profesionales vinculados con esta industria cumplir con los planes de formación exigidos por las autoridades supervisoras. \nDescargar PDFInscribirse
URL:https://financial-mind.com/event/novedades-normativas-en-gestoras-y-depositarios-de-iic/
CATEGORIES:Mixto
ATTACH;FMTTYPE=image/jpeg:https://financial-mind.com/wp-content/uploads/2022/02/20_05_2019.jpg
END:VEVENT
END:VCALENDAR