BEGIN:VCALENDAR
VERSION:2.0
PRODID:-//Financial Mind - ECPv5.3.2.1//NONSGML v1.0//EN
CALSCALE:GREGORIAN
METHOD:PUBLISH
X-WR-CALNAME:Financial Mind
X-ORIGINAL-URL:https://financial-mind.com
X-WR-CALDESC:Eventos para Financial Mind
BEGIN:VTIMEZONE
TZID:Europe/Madrid
BEGIN:DAYLIGHT
TZOFFSETFROM:+0100
TZOFFSETTO:+0200
TZNAME:CEST
DTSTART:20090329T010000
END:DAYLIGHT
BEGIN:STANDARD
TZOFFSETFROM:+0200
TZOFFSETTO:+0100
TZNAME:CET
DTSTART:20091025T010000
END:STANDARD
END:VTIMEZONE
BEGIN:VEVENT
DTSTART;TZID=Europe/Madrid:20090305T060000
DTEND;TZID=Europe/Madrid:20090305T060000
DTSTAMP:20260421T150600
CREATED:20090305T050000Z
LAST-MODIFIED:20220324T101753Z
UID:3157-1236232800-1236232800@financial-mind.com
SUMMARY:Nuevas Circulares 7/2008 y 11/2008 de contabilidad del Capital Riesgo
DESCRIPTION:Madrid\, Hotel Hesperia Madrid \n Fecha de inicio 05/03/2009 \nConozca las implicaciones del nuevo PGC en la contabilidad de los Fondos y Sociedades de capital-riesgo y las obligaciones derivadas de esta normativa para sus Sociedades Gestoras. Adelántese y analice los cambios que deberán introducirse en la información pública y reservada a remitir a la Comisión Nacional del Mercado de Valores. \nDescargar PDFInscribirse
URL:https://financial-mind.com/event/nuevas-circulares-7-2008-y-11-2008-de-contabilidad-del-capital-riesgo/
CATEGORIES:Presencial
ATTACH;FMTTYPE=image/jpeg:https://financial-mind.com/wp-content/uploads/2022/02/05_03_2009.jpg
END:VEVENT
END:VCALENDAR