BEGIN:VCALENDAR
VERSION:2.0
PRODID:-//Financial Mind - ECPv5.3.2.1//NONSGML v1.0//EN
CALSCALE:GREGORIAN
METHOD:PUBLISH
X-WR-CALNAME:Financial Mind
X-ORIGINAL-URL:https://financial-mind.com
X-WR-CALDESC:Eventos para Financial Mind
BEGIN:VTIMEZONE
TZID:Europe/Madrid
BEGIN:DAYLIGHT
TZOFFSETFROM:+0100
TZOFFSETTO:+0200
TZNAME:CEST
DTSTART:20180325T010000
END:DAYLIGHT
BEGIN:STANDARD
TZOFFSETFROM:+0200
TZOFFSETTO:+0100
TZNAME:CET
DTSTART:20181028T010000
END:STANDARD
END:VTIMEZONE
BEGIN:VEVENT
DTSTART;TZID=Europe/Madrid:20180129T050000
DTEND;TZID=Europe/Madrid:20180129T050000
DTSTAMP:20260421T103244
CREATED:20180129T040000Z
LAST-MODIFIED:20220324T130827Z
UID:3196-1517202000-1517202000@financial-mind.com
SUMMARY:PRIIPs Situación actual\, últimas novedades y retos
DESCRIPTION:Madrid\, Aula Alternativa – Sesión presencial 30 enero / Videoconferencia en directo \n Fecha de inicio 29/01/2018 \n2018 será clave con la entrada en vigor de PRIIPs y MiFID II\, exigiendo a las entidades llevar a cabo grandes esfuerzos para su implementación y el cumplimiento de todos losrequisitos emanados de estos Reglamentos y Directivas europeas\, así como de otros desarrollos normativos y criterios aprobados por la CNMV. \nDescargar PDFInscribirse
URL:https://financial-mind.com/event/priips-situacion-actual-ultimas-novedades-y-retos/
CATEGORIES:Mixto
ATTACH;FMTTYPE=image/jpeg:https://financial-mind.com/wp-content/uploads/2022/02/29_01_2018.jpg
END:VEVENT
END:VCALENDAR