BEGIN:VCALENDAR
VERSION:2.0
PRODID:-//Financial Mind - ECPv5.3.2.1//NONSGML v1.0//EN
CALSCALE:GREGORIAN
METHOD:PUBLISH
X-WR-CALNAME:Financial Mind
X-ORIGINAL-URL:https://financial-mind.com
X-WR-CALDESC:Eventos para Financial Mind
BEGIN:VTIMEZONE
TZID:Europe/Madrid
BEGIN:DAYLIGHT
TZOFFSETFROM:+0100
TZOFFSETTO:+0200
TZNAME:CEST
DTSTART:20140330T010000
END:DAYLIGHT
BEGIN:STANDARD
TZOFFSETFROM:+0200
TZOFFSETTO:+0100
TZNAME:CET
DTSTART:20141026T010000
END:STANDARD
END:VTIMEZONE
BEGIN:VEVENT
DTSTART;TZID=Europe/Madrid:20140114T060000
DTEND;TZID=Europe/Madrid:20140114T060000
DTSTAMP:20260422T000447
CREATED:20140114T050000Z
LAST-MODIFIED:20220324T110442Z
UID:3169-1389679200-1389679200@financial-mind.com
SUMMARY:Programa avanzado de asesoramiento y análisis en Fondos de Inversión
DESCRIPTION:Curso On-line \n Fecha de inicio 14/01/2014 \nAdquiera un alto grado de conocimiento sobre el funcionamiento de los Fondos de Inversión y de las herramientas cuantitativas y cualitativas necesarias para el desempeño de actividades de asesoramiento y análisis\, contando con la participación de expertos en la materia: CNMV\, Deloitte\, KPMG\, Morningstar\, VDOS\, Citywire y Funds People.Obtenga una certificación específica en Fondos de Inversión que le permita acreditar ante inversores\, clientes y autoridades supervisoras\, que dispone de un nivel avanzado de conocimiento en uno de los productos financieros más demandado por los inversores.Con este programa de Formación usted puede beneficiarse de las bonificaciones de la Fundación Tripartita para la Formación en el empleo. Las tramitaciones deben realizarse a través de la Fundación Tripartita desde su empresa o empresas colaboradoras.  \nDescargar PDFInscribirse
URL:https://financial-mind.com/event/programa-avanzado-de-asesoramiento-y-analisis-en-fondos-de-inversion/
CATEGORIES:On-line
ATTACH;FMTTYPE=image/jpeg:https://financial-mind.com/wp-content/uploads/2022/02/14_01_2014.jpg
END:VEVENT
END:VCALENDAR