BEGIN:VCALENDAR
VERSION:2.0
PRODID:-//Financial Mind - ECPv5.3.2.1//NONSGML v1.0//EN
CALSCALE:GREGORIAN
METHOD:PUBLISH
X-WR-CALNAME:Financial Mind
X-ORIGINAL-URL:https://financial-mind.com
X-WR-CALDESC:Eventos para Financial Mind
BEGIN:VTIMEZONE
TZID:Europe/Madrid
BEGIN:DAYLIGHT
TZOFFSETFROM:+0100
TZOFFSETTO:+0200
TZNAME:CEST
DTSTART:20190331T010000
END:DAYLIGHT
BEGIN:STANDARD
TZOFFSETFROM:+0200
TZOFFSETTO:+0100
TZNAME:CET
DTSTART:20191027T010000
END:STANDARD
END:VTIMEZONE
BEGIN:VEVENT
DTSTART;TZID=Europe/Madrid:20190506T050000
DTEND;TZID=Europe/Madrid:20190506T050000
DTSTAMP:20260421T084336
CREATED:20190506T030000Z
LAST-MODIFIED:20220325T101628Z
UID:3204-1557118800-1557118800@financial-mind.com
SUMMARY:Regulación del Crédito Inmobiliario
DESCRIPTION:Madrid\, Aula Alternativa – Sesión presencial 7 mayo / Videoconferencia en directo \n Fecha de inicio 06/05/2019 \nEl pasado 15 de marzo fue aprobada la Ley 5/2019 reguladora de los Contratos de Crédito Inmobiliario\, cuya próxima entrada en vigor tendrá un impacto muy relevanteante la necesidad de potenciar la seguridad jurídica en el mercado hipotecario\, establecido un régimen legal con requisitos y reglas más claras\, y que las entidadesfinancieras deberán realizar esfuerzos muy relevantes de implementación y adaptación. \nDescargar PDFInscribirse
URL:https://financial-mind.com/event/regulacion-del-credito-inmobiliario/
CATEGORIES:Mixto
ATTACH;FMTTYPE=image/jpeg:https://financial-mind.com/wp-content/uploads/2022/02/06_05_2019.jpg
END:VEVENT
END:VCALENDAR