BEGIN:VCALENDAR
VERSION:2.0
PRODID:-//Financial Mind - ECPv5.3.2.1//NONSGML v1.0//EN
CALSCALE:GREGORIAN
METHOD:PUBLISH
X-WR-CALNAME:Financial Mind
X-ORIGINAL-URL:https://financial-mind.com
X-WR-CALDESC:Eventos para Financial Mind
BEGIN:VTIMEZONE
TZID:Europe/Madrid
BEGIN:DAYLIGHT
TZOFFSETFROM:+0100
TZOFFSETTO:+0200
TZNAME:CEST
DTSTART:20190331T010000
END:DAYLIGHT
BEGIN:STANDARD
TZOFFSETFROM:+0200
TZOFFSETTO:+0100
TZNAME:CET
DTSTART:20191027T010000
END:STANDARD
END:VTIMEZONE
BEGIN:VEVENT
DTSTART;TZID=Europe/Madrid:20190121T050000
DTEND;TZID=Europe/Madrid:20190121T050000
DTSTAMP:20260421T084819
CREATED:20190121T040000Z
LAST-MODIFIED:20220325T101245Z
UID:3203-1548046800-1548046800@financial-mind.com
SUMMARY:Transposición de MiFID II
DESCRIPTION:Madrid\, Aula Alternativa – Sesiones presenciales 22 y 29 enero / Videoconferencia en directo \n Fecha de inicio 21/01/2019 \nAnalice en profundidad los requisitos\, obligaciones y retos a los que se enfrenta el sector financiero en 2019 con la transposición definitiva de MiFID II. \nDescargar PDFInscribirse
URL:https://financial-mind.com/event/transposicion-de-mifid-ii/
CATEGORIES:Mixto
ATTACH;FMTTYPE=image/jpeg:https://financial-mind.com/wp-content/uploads/2022/02/21_01_2019.jpg
END:VEVENT
END:VCALENDAR