BEGIN:VCALENDAR
VERSION:2.0
PRODID:-//Financial Mind - ECPv5.3.2.1//NONSGML v1.0//EN
CALSCALE:GREGORIAN
METHOD:PUBLISH
X-WR-CALNAME:Financial Mind
X-ORIGINAL-URL:https://financial-mind.com
X-WR-CALDESC:Eventos para Financial Mind
BEGIN:VTIMEZONE
TZID:Europe/Madrid
BEGIN:DAYLIGHT
TZOFFSETFROM:+0100
TZOFFSETTO:+0200
TZNAME:CEST
DTSTART:20180325T010000
END:DAYLIGHT
BEGIN:STANDARD
TZOFFSETFROM:+0200
TZOFFSETTO:+0100
TZNAME:CET
DTSTART:20181028T010000
END:STANDARD
END:VTIMEZONE
BEGIN:VEVENT
DTSTART;TZID=Europe/Madrid:20180122T050000
DTEND;TZID=Europe/Madrid:20180122T050000
DTSTAMP:20260421T103607
CREATED:20180122T040000Z
LAST-MODIFIED:20220324T125230Z
UID:3195-1516597200-1516597200@financial-mind.com
SUMMARY:Últimas novedades sobre la IDD y el Anteproyecto de Ley de Distribución de Seguros y Reaseguros
DESCRIPTION:Madrid\, Aula Alternativa – Sesión presencial 23 enero / Videoconferencia en directo \n Fecha de inicio 22/01/2018 \nLa IDD pretende aumentar la protección del consumidor de seguros\, garantizar la igualdad de trato entre los distintos operadores y mejorar la regulación de las ventas deseguros\, obligando entre otras cosas a que se cumplan nuevas normas de conducta\, muchas de ellas similares a MiFID\, y de organización como en materia de formación ydesarrollo profesional permanente de los empleados de los mediadores y de las empresas de seguro. \nDescargar PDFInscribirse
URL:https://financial-mind.com/event/ultimas-novedades-sobre-la-idd-y-el-anteproyecto-de-ley-de-distribucion-de-seguros-y-reaseguros/
CATEGORIES:Mixto
ATTACH;FMTTYPE=image/jpeg:https://financial-mind.com/wp-content/uploads/2022/02/22_01_2018.jpg
END:VEVENT
END:VCALENDAR